BEGIN:VCALENDAR
VERSION:2.0
PRODID:spatie/icalendar-generator
DESCRIPTION:Events from Poole Wheelers
X-WR-CALDESC:Events from Poole Wheelers
REFRESH-INTERVAL;VALUE=DURATION:PT1440M
X-PUBLISHED-TTL:PT1440M
BEGIN:VTIMEZONE
TZID:Europe/London
BEGIN:DAYLIGHT
DTSTART:20240331T010000Z
TZOFFSETFROM:+0000
TZOFFSETTO:+0100
END:DAYLIGHT
BEGIN:STANDARD
DTSTART:20241027T020000Z
TZOFFSETFROM:+0100
TZOFFSETTO:+0000
END:STANDARD
END:VTIMEZONE
BEGIN:VTIMEZONE
TZID:UTC
BEGIN:STANDARD
DTSTART:20250725T234855Z
TZOFFSETFROM:+0000
TZOFFSETTO:+0000
END:STANDARD
END:VTIMEZONE
BEGIN:VEVENT
UID:469-23
DTSTAMP:20260421T234855Z
SUMMARY:CANCELLED - Sorry no coaches available Monday Club Track Session -
LOCATION:Bournemouth Velodrome
ORGANIZER;CN=Graham Hurst:MAILTO:graham@hurstbro.co.uk
DTSTART;TZID=Europe/London:20240812T180000
DTEND;TZID=Europe/London:20240812T210000
X-ALT-DESC;FMTTYPE=TEXT/HTML:&amp;nbsp\; We meet every Monday evening from 6pm-
 dusk (weather permitting) - Check this calendar - or club track WhattsApp 
 group for updates if any doutb about the weather - Beginners/Young Riders 
 6pm-7pm - Experienced Rider 7-dusk Thursday evening sessions (6:30pm-8:30p
 m) for experienced riders will commence in May. These sessions will run ev
 ery week (weather permitting)&amp;hellip\;
CATEGORIES:General
URL;VALUE=URI:https://poolewheelers.com/mc-events/cancelled-sorry-no-coache
 s-available-monday-club-track-session-2/?mc_id=469
END:VEVENT
END:VCALENDAR