BEGIN:VCALENDAR
VERSION:2.0
PRODID:spatie/icalendar-generator
DESCRIPTION:Events from Poole Wheelers
X-WR-CALDESC:Events from Poole Wheelers
REFRESH-INTERVAL;VALUE=DURATION:PT1440M
X-PUBLISHED-TTL:PT1440M
BEGIN:VTIMEZONE
TZID:Europe/London
BEGIN:DAYLIGHT
DTSTART:20250330T010000Z
TZOFFSETFROM:+0000
TZOFFSETTO:+0100
END:DAYLIGHT
BEGIN:STANDARD
DTSTART:20251026T020000Z
TZOFFSETFROM:+0100
TZOFFSETTO:+0000
END:STANDARD
BEGIN:DAYLIGHT
DTSTART:20260329T010000Z
TZOFFSETFROM:+0000
TZOFFSETTO:+0100
END:DAYLIGHT
END:VTIMEZONE
BEGIN:VTIMEZONE
TZID:UTC
BEGIN:STANDARD
DTSTART:20250725T094654Z
TZOFFSETFROM:+0000
TZOFFSETTO:+0000
END:STANDARD
END:VTIMEZONE
BEGIN:VEVENT
UID:1067-31
DTSTAMP:20260421T094654Z
SUMMARY:Wednesday Night Chaingang from Poole Park
LOCATION:Poole Park Cricket Pavilian
ORGANIZER;CN=Pete Watkins:MAILTO:petegwatkins@gmail.com
DTSTART;TZID=Europe/London:20251119T183000
DTEND;TZID=Europe/London:20251119T203000
X-ALT-DESC;FMTTYPE=TEXT/HTML:As from Wednesday 2nd October 2024 till March 
 2025\, we are running our evening winter rides. Jonathan Terry and Julia T
 erry have kindly taken over the organisation of these evenings and intend 
 to run them every week\, rain or shine! If the weather is inclement and no
 t ideal for riding\, they will still be there&amp;hellip\;
CATEGORIES:General
URL;VALUE=URI:https://poolewheelers.com/mc-events/wednesday-night-chaingang
 -from-poole-park/?mc_id=1067
END:VEVENT
END:VCALENDAR